BEGIN:VCALENDAR
VERSION:2.0
BEGIN:VEVENT
STATUS:CONFIRMED
DESCRIPTION:**Virgin Suicides (1999)**\n\n**PORTES 20h00, DEBUT 20H30**\n
 \nUn max de fun pour cette nouvelle séance de cinéma à prix libre ! Tu te
  pointes, tu prends ton pop-corn offert, et tu profites du meilleur ratio
  taille d’écran/prix du siège de l’univers.\n\n**Cette semaine**: *Virgin
  Suicides* (1999, US) de Sofia Coppola\n\nDans une banlieue américaine tr
 op tranquille, cinq sœurs insaisissables deviennent l’objet d’obsession d
 es garçons du voisinage. Entre journal intime, fantasme adolescent et mél
 ancolie diffuse, Sofia Coppola signe un premier film envoûtant, baigné de
  lumière pastel et de musique planante, où l’innocence se heurte à l’inco
 mpréhensible. Un classique à (re)découvrir à tout prix. \n\nOuvert aux ge
 ns ayant eu un compte Tumblr.\n\n**TW:** scènes explicites de suicide et 
 de tentative de suicide / voyeurisme 
CLASS:PUBLIC
UID:fed6a7b3-6b25-4a17-bbb5-894b92c5f725
URL:https://nyght.ch/events/fed6a7b3-6b25-4a17-bbb5-894b92c5f725
SUMMARY:Cinébull : projection 6
LAST-MODIFIED:20260203T100215Z
DTSTAMP:20260422T080300Z
DTSTART:20260226T190000Z
DTEND:20260226T230000Z
END:VEVENT
METHOD:PUBLISH
PRODID:-//Nyght//iCal API//EN
CALSCALE:GREGORIAN
END:VCALENDAR