BEGIN:VCALENDAR
VERSION:2.0
BEGIN:VEVENT
STATUS:CONFIRMED
DESCRIPTION:**Soirée de débats politiques**\n\n\nEn vue des élections com
 munales du 8 mars 2026, nous avons le plaisir de vous convier à une soiré
 e de débats entre jeunes candidat·e·s de tous les partis bullois.\n\n\nAv
 ec la présence de :\n\n* Le centre | Léonard Debons\n* Les Verts | France
 sco Lucano\n* PS | Aïdan Delabays\n* PLR | Alia Schmidt\n* UDC | Jean-Yve
 s Conti\n\n\nPour ce débat d’entraînement en public, des sujets tels que 
 la mobilité, la culture ou la sécurité seront au cœur des échanges.\n\n\n
 * 👉 19h, **première partie** sur la culture / 45 minutes\n* 👉 20h, **seco
 nde partie** sur des thèmes récurrents / 45 minutes\n\n\n*Modération : Hé
 loïse Clément et Manoë Ducrest (RTS).*\n\n\n❤️‍🔥 Entrée libre
CLASS:PUBLIC
UID:f92ba162-2d5b-4a17-87df-db3bc07db7fa
URL:https://nyght.ch/events/f92ba162-2d5b-4a17-87df-db3bc07db7fa
SUMMARY:Soirée de débats politiques
LAST-MODIFIED:20260217T155502Z
DTSTAMP:20260422T093902Z
DTSTART:20260224T170000Z
DTEND:20260224T220000Z
END:VEVENT
METHOD:PUBLISH
PRODID:-//Nyght//iCal API//EN
CALSCALE:GREGORIAN
END:VCALENDAR