BEGIN:VCALENDAR
VERSION:2.0
BEGIN:VEVENT
STATUS:CONFIRMED
DESCRIPTION:**Spectacle d'impro**\n\nLa saison du Catch impro revient dan
 s une version mêlant vintage et nouveautés!\n\n\n*"Pour célébrer nos 20 a
 ns, deux duos mythiques des éditions précédentes se sont reformés - les G
 orgones et les Précieuses - et rencontreront deux duos inédits - les Pira
 tes de Thusis et Los Luchadores, lors de trois soirées préparées par notr
 e talentueuse arbitre Ana Rodriguez."*\n\n\nCe Jeudi 5 mars: Douceur, mes
 quineries et allures mystiques seront au rdv et détermineront qui, des Go
 rgonnes ou des Précieuses, se qualifieront pour la finale.\n\n\n* Jeudi 2
 3 avril: tous les duos seront sur scène pour se disputer les places du po
 dium!\n\n\n\n// Ouverture des portes à 19h00, spectacle à 20h00\n\n\n---\
 n\n❤️‍🔥 Entrée libre avec l’**AG culturel** et le **Pass Bienvenue Bulle*
 *.\n\n*Plus d’infos sur la réservation avec l’AG Culturel [ici](https://w
 ww.ebull.ch/fr/abonnements).*\n\n❤️‍🔥 Rabais de 50% sur l’entrée avec la 
 **Carte Culture Caritas**.
CLASS:PUBLIC
UID:f8c96562-5cd3-46b3-ad60-89e1fd5e0cfa
URL:https://nyght.ch/events/f8c96562-5cd3-46b3-ad60-89e1fd5e0cfa
SUMMARY:Les ImprOvisibles + "Catch #2"
LAST-MODIFIED:20260217T163945Z
DTSTAMP:20260422T021310Z
DTSTART:20260305T180000Z
DTEND:20260305T225900Z
END:VEVENT
METHOD:PUBLISH
PRODID:-//Nyght//iCal API//EN
CALSCALE:GREGORIAN
END:VCALENDAR