BEGIN:VCALENDAR
VERSION:2.0
BEGIN:VEVENT
STATUS:CONFIRMED
DESCRIPTION:**No Wave Punk**\n\n# Lydia Lunch & Marc Hurtado play SUICIDE
  and Alan Vega\nIcône du mouvement Underground et No Wave new-yorkais, Ly
 dia Lunch a traversé les décennies en multipliant les collaborations marq
 uantes, notamment avec **Sonic Youth**, **Nick Cave** ou encore **Virgini
 e Despentes**, s'affirmant résolument radicale, féministe et indiscipliné
 e.\n\nLydia Lunch et Marc Hurtado revisitent l’héritage du duo punk new-y
 orkais SUICIDE (Alan Vega et Martin Rev) à travers des performances sonor
 es et visuelles. Leur projet s'inspire de l'énergie brute du proto-punk e
 t est décrit comme théâtral, libre et violent.\nhttps://www.youtube.com/w
 atch?v=62ybWzzKuvQ\n\n# Mange Tes Fraises\n... et bouffe mon c** !\nBref,
  trois punk fribourgeois·es s'unissent pour vous proposer une cueillette 
 récréative et engagée. Tarte à la confiture dans la face, roulé-boulé de 
 purée dans le gosier.
CLASS:PUBLIC
UID:f1ba634a-2217-42e2-9ad8-071aeaf2c055
URL:https://nyght.ch/events/f1ba634a-2217-42e2-9ad8-071aeaf2c055
SUMMARY:Lydia Lunch (US) & Marc Hurtado (FR) play SUICIDE and Alan Vega +
  Mange Tes Fraises (CH)
LAST-MODIFIED:20260107T165609Z
DTSTAMP:20260423T075918Z
DTSTART:20260122T190000Z
DTEND:20260123T010000Z
END:VEVENT
METHOD:PUBLISH
PRODID:-//Nyght//iCal API//EN
CALSCALE:GREGORIAN
END:VCALENDAR