BEGIN:VCALENDAR
VERSION:2.0
BEGIN:VEVENT
STATUS:CONFIRMED
DESCRIPTION:**Afro Kizomba Party**\n\n"Badju Kanekinha" fait référence au
 x soirées populaires et dansantes du Cap-Vert. De l'Afrobeat à la Funaná 
 en passant par la Kizomba, la nuit du 28 mars s'annonce belle et rythmée 
 !\n\n# DJ Pensador\n# DJ Semedo\n# Deejay Tuba\n\n\n---\n\n❤️‍🔥 Entrée li
 bre avec l’**AG culturel** et le **Pass Bienvenue Bulle**.\n\n*Plus d’inf
 os sur la réservation avec l’AG Culturel [ici](https://www.ebull.ch/fr/ab
 onnements).*\n\n❤️‍🔥 Rabais de 50% sur l’entrée avec la **Carte Culture C
 aritas**.
CLASS:PUBLIC
UID:ef39f526-c051-4e9e-9c55-f23e93328c05
URL:https://nyght.ch/events/ef39f526-c051-4e9e-9c55-f23e93328c05
SUMMARY:Badju Kanekinha | Afro Kizomba Party + DJ Pensador (CPV) + DJ Sem
 edo (CPV) + Deejay Tuba (PRT)
LAST-MODIFIED:20260219T120512Z
DTSTAMP:20260421T134704Z
DTSTART:20260328T200000Z
DTEND:20260329T010000Z
END:VEVENT
METHOD:PUBLISH
PRODID:-//Nyght//iCal API//EN
CALSCALE:GREGORIAN
END:VCALENDAR