BEGIN:VCALENDAR
VERSION:2.0
BEGIN:VEVENT
STATUS:CONFIRMED
DESCRIPTION:***du fromage qui coule, du rock qui cogne***\n\nCe soir, hon
 neur au Rock à coups de décibels et de fromage fondu.\n\n🧀 ♠️ 🧀 ♠️\n\n* 1
 8h30 **Documentaire "Lemmy" & Apéro** *sur réservation*\n* 20h **Fondue m
 oitié-moitié**  *sur réservation*\n\n\n/!\ Documentaire & Apéro + Fondue 
 / Place limitées !\nRéservations sur Petzi.\n\n\nDès 22h **After Party Dj
  set Rock'n'Roll** *entrée libre*\n\n\n---\n\n❤️‍🔥 Entrée libre avec l’**
 AG culturel** et le **Pass Bienvenue Bulle**.\n\n*Plus d’infos sur la rés
 ervation avec l’AG Culturel [ici](https://www.ebull.ch/fr/abonnements).*\
 n\n❤️‍🔥 Rabais de 50% sur l’entrée avec la **Carte Culture Caritas**.
CLASS:PUBLIC
UID:ebbf67a3-3674-4513-bb2a-41ec9f4ab253
URL:https://nyght.ch/events/ebbf67a3-3674-4513-bb2a-41ec9f4ab253
SUMMARY:"Killed by Cheese"+Film, Fondue, Party 
LAST-MODIFIED:20260217T163954Z
DTSTAMP:20260422T003311Z
DTSTART:20260306T170000Z
DTEND:20260307T000000Z
END:VEVENT
METHOD:PUBLISH
PRODID:-//Nyght//iCal API//EN
CALSCALE:GREGORIAN
END:VCALENDAR