BEGIN:VCALENDAR
VERSION:2.0
BEGIN:VEVENT
STATUS:CONFIRMED
DESCRIPTION:#### Spectacle d'impro pour les Kids\n#### \n\nLe RDV inconto
 urnable pour le Jeune public!\n\n\n// Ouverture des portes à 16h00, spect
 acle à 16h30\n\n⚠️ Entrée dès 5ans
CLASS:PUBLIC
UID:e60bd339-e806-4354-932a-5b1fe9440184
URL:https://nyght.ch/events/e60bd339-e806-4354-932a-5b1fe9440184
SUMMARY:ImproKids + par Les ImprOvisibles
LAST-MODIFIED:20250924T184457Z
DTSTAMP:20260425T011012Z
DTSTART:20251109T150000Z
DTEND:20251109T190000Z
END:VEVENT
METHOD:PUBLISH
PRODID:-//Nyght//iCal API//EN
CALSCALE:GREGORIAN
END:VCALENDAR