BEGIN:VCALENDAR
VERSION:2.0
BEGIN:VEVENT
STATUS:CONFIRMED
DESCRIPTION:**Le MouseCast part en tournée !**\n\nÀ la rentrée, le MouseC
 ast quitte le studio de Matias pour venir à votre rencontre.\nPour la pre
 mière fois, l’émission s’installe en public, au plus près des auditeurs e
 t auditrices, pour des enregistrements uniques, intimes et vivants.\nAu p
 rogramme : des discussions passionnées autour de la musique, de la pop cu
 lture, des coups de cœur, des débats (toujours à la régulière), et surtou
 t, des moments de partage avec vous. Chaque date sera l’occasion d’un épi
 sode spécial. Invités surprises, interactions avec le public, moments for
 ts garantis.\nQue vous soyez auditeur·rice de la première heure ou simple
  curieux·se, venez vivre le MouseCast en vrai.\n\n**Le grand retour des M
 ouse Party !**\n\nAprès deux ans d'absence, les Mouse Party sont de retou
 r !\nCes soirées rap emblématiques, lancées en 2021, reviennent à l’occas
 ion d’une tournée exceptionnelle dans 7 villes dont Bulle, pour une excls
 ivité suisse.\nAu programme : DJ sets, performances surprises et cette am
 biance unique qu’on ne retrouve nulle part ailleurs.\n\n\n*Avec Mehdi Maï
 zi, Drin, Lakehouse et d'autres surprises à venir !*\n\n\n✨✨✨\n\n* Doors 
 // 16h\n* **MouseCast** // 17h - 19h\n* Break closed doors // 19h - 21h\n
 * **Mouse Party** // 21h - 02h30
CLASS:PUBLIC
UID:e03a7a81-f15e-4710-9d02-d534cc9c9e1a
URL:https://nyght.ch/events/e03a7a81-f15e-4710-9d02-d534cc9c9e1a
SUMMARY:MouseCast & Mouse Party 
LAST-MODIFIED:20251120T140049Z
DTSTAMP:20260424T124456Z
DTSTART:20251122T150000Z
DTEND:20251123T020000Z
END:VEVENT
METHOD:PUBLISH
PRODID:-//Nyght//iCal API//EN
CALSCALE:GREGORIAN
END:VCALENDAR