BEGIN:VCALENDAR
VERSION:2.0
BEGIN:VEVENT
STATUS:CONFIRMED
DESCRIPTION:C’est le retour de la soirée BABD, en collaboration avec le c
 omité Candide du Collège du Sud. Donc, la bonne occasion de venir faire l
 a fête, boire des coups, apprécier des concerts, et tout ça pour la bonne
  cause!\n\nLes sous récoltés durant cette soirée seront reversés à la [SP
 A Fribourg](https://www.spafribourg.ch/) 🐈\n\n# Shunyata\nPlongez dans l'
 univers expérimental de Kléa et de Mathis. Un micmac de rock alternatif e
 t de grunge, influencé par les plus grands d'aujourd'hui et d'hier.\n\n# 
 Van Herle\nAvec son style directement influencé par Joji, Dayglow, Mac De
 marco ou encore Twenty One Pilots, Max Van Herle commence à composer en 2
 020 dans sa cave lausannoise. Viens découvrir ce talent de coin sur scène
  avec nous!\n\n# DJETTES Surprises\nTrois extra vedettes vous feront dans
 er jusqu'au bout de la soirée !\n\n\n*Shunyata / 20h45\n\n*Van Herle / 22
 h00\n\n*DJettes surprises / 23h15\n\n*Curfew / 02h00
CLASS:PUBLIC
UID:d591c666-e25d-4d05-a9c0-447995487260
URL:https://nyght.ch/events/d591c666-e25d-4d05-a9c0-447995487260
SUMMARY:Bonne Action, Bonne Descente ! + Shunyata (CH) + Van Herle (CH) +
  DJETTES Surprises
LAST-MODIFIED:20251007T091117Z
DTSTAMP:20260425T172404Z
DTSTART:20251010T180000Z
DTEND:20251011T000000Z
END:VEVENT
METHOD:PUBLISH
PRODID:-//Nyght//iCal API//EN
CALSCALE:GREGORIAN
END:VCALENDAR