BEGIN:VCALENDAR
VERSION:2.0
BEGIN:VEVENT
STATUS:CONFIRMED
DESCRIPTION:**En collaboration avec [les Hauts Parleurs](https://leshauts
 parleurs.ch/)**\n\n# Béatrice Graf \nNée à Nyon et, pourtant, performe à 
 l’international grâce à son art aux multiples facettes. Le style de cette
  Genevoise est indéfinissable ; elle immerge le·la spectateur·rice de ses
  percussions militantes qui font trembler la Suisse depuis 1992. Sur scèn
 e, sa malle mobile permet d'obtenir une infinité de sons simples mais pui
 ssants. En un rythme frénétique, elle vous fera oublier l’espace et le te
 mps et vivre un instant présent des plus unique. En effet, dans sa malle 
 comme extensible de sonorité passant du rock à la transe au folklore et b
 ien plus, on se prépare à vivre un décollage musical qui promet le jet-la
 g.\nhttps://www.youtube.com/watch?v=x4q5koixlGk\n\n# Ne surtout pas dimin
 uer les nuisances\nC’est une invitation à prêter l’oreille au monde, à se
  laisser traverser par ce qui nous entoure, les sons, les gestes, les par
 oles, les instants suspendus du quotidien. Par cette performance, le coll
 ectif Buro d'Archi éclaire ces petites “nuisances” qui tissent nos vies :
  celles qui nous font sourire, celles qui nous lassent, celles qui apaise
 nt ou dérangent. Une lecture bruyante et sourde, dérangeante et organisée
 .\n\n\nDurée : 40 minutes\n\n---\n\n*Direction artistique : [Collectif Bu
 ro d'Archi](https://oh-la-la.ch/artistes/buro-d-archi-maude-bovey-yann-he
 rmenjat) & Giulietta Mottini\nTexte : Giulietta Mottini\nMise en scène : 
 Yann Hermenjat\nScénographie : Maude Bovey\nJeu: Araksan Laisney / Igaëll
 e Venegas / Lisa Wallinger\nCréation lumière et régie: Donatien Pivetaud\
 nProduction et diffusion: Maxine Devaud / oh la la - performing arts prod
 uction\nAdministration: Angie Mennillo / oh la la - performing arts produ
 ction*\n\n\n---\n\n❤️‍🔥 Entrée libre avec l’**AG culturel** et le **Pass 
 Bienvenue Bulle**.\n\n*Plus d’infos sur la réservation avec l’AG Culturel
  [ici](https://www.ebull.ch/fr/abonnements).*\n\n❤️‍🔥 Rabais de 50% sur l
 ’entrée avec la **Carte Culture Caritas**.
CLASS:PUBLIC
UID:bc804c16-4bec-4c57-8d0f-0a7986c3815d
URL:https://nyght.ch/events/bc804c16-4bec-4c57-8d0f-0a7986c3815d
SUMMARY:Béatrice Graf (CH) + "Ne surtout pas diminuer les nuisances" + pa
 r le collectif Buro d'Archi (CH)
LAST-MODIFIED:20260217T164008Z
DTSTAMP:20260421T225714Z
DTSTART:20260313T190000Z
DTEND:20260314T000000Z
END:VEVENT
METHOD:PUBLISH
PRODID:-//Nyght//iCal API//EN
CALSCALE:GREGORIAN
END:VCALENDAR