BEGIN:VCALENDAR
VERSION:2.0
BEGIN:VEVENT
STATUS:CONFIRMED
DESCRIPTION:La deuxième édition du Marché de Noël d’Ebullition est là! \n
 \nVin chaud, musique, bar, thé et la présence de créateur·rices et artisa
 nt·es du coin, c’est le meilleur moment pour préparer tes cadeaux!\n\n\n1
 1h - 17h\n❤️‍🔥 Entrée libre\n\n\nCréations artisanales avec:\n\n* 👉 [@cri
 cprint](https://www.instagram.com/cricprint/)\n* 👉 [@quercus.x.filix](htt
 ps://www.instagram.com/quercus.x.filix/)\n* 👉 [@bjjanne](https://www.inst
 agram.com/bjjanne/)\n* 👉 [@la_____main](https://www.instagram.com/la_____
 main?igsh=cDNtbHZqZDNubnRk)\n* 👉 [@la.bidulerie](https://www.instagram.co
 m/la.bidulerie/)\n* 👉 [@wassup.dsgn](https://www.instagram.com/wassup.dsg
 n/)\n* 👉 [@callercallau](https://www.instagram.com/callercallau/)\n* 👉 [@
 bougies_alapo](https://www.instagram.com/bougies_alapo/)\n* 👉 [@indoka_bi
 joux](https://www.instagram.com/indoka_bijoux/)\n* 👉 [@nopekfestival](htt
 ps://www.instagram.com/nopekfestival/)\n* 👉 [@jul.s.creations](https://ww
 w.instagram.com/jul.s.creations/)\n* 👉 [@amelia_joe_split](https://www.in
 stagram.com/amelia_joe_split/)\n* 👉 [@librairie_lartdaimer](https://www.i
 nstagram.com/librairie_lartdaimer/)\n* 👉 [@marici.ceceramic](https://www.
 instagram.com/marici.ceceramic/)\n* 👉 [@lile_aux_tresors](https://www.ins
 tagram.com/lile_aux_tresors/)\n* 👉 [@fribourg_palestine](https://www.inst
 agram.com/fribourg_palestine/)\n* 👉 [@atlier_lavoliere](https://www.insta
 gram.com/atlier_lavoliere/)\n* 👉 [@julie_la_potiere](https://www.instagra
 m.com/julie_la_potiere/)\n* 👉 Sabotage Collective\n* 👉 [@madagascarfairtr
 ade](https://www.instagram.com/madagascarfairtrade/)\n* 👉 [@no.handmade_a
 ccessories](https://www.instagram.com/no.handmade_accessories/)
CLASS:PUBLIC
UID:bc7583a9-20f0-4598-9ace-956ed7331859
URL:https://nyght.ch/events/bc7583a9-20f0-4598-9ace-956ed7331859
SUMMARY:Marché de Noël ✦💖
LAST-MODIFIED:20251013T062510Z
DTSTAMP:20260424T032206Z
DTSTART:20251207T100000Z
DTEND:20251207T160000Z
END:VEVENT
METHOD:PUBLISH
PRODID:-//Nyght//iCal API//EN
CALSCALE:GREGORIAN
END:VCALENDAR