BEGIN:VCALENDAR
VERSION:2.0
BEGIN:VEVENT
STATUS:CONFIRMED
DESCRIPTION:**Rock**\n\n# Division 4\nFormation gruérienne fondée en 2010
 , le groupe puise son énergie dans le rock lourd des années 90 à aujourd’
 hui. Porté par une chanteuse à la voix puissante, le quatuor répète dans 
 un ancien hôpital psychiatrique, lieu clé de leur univers sombre et qui a
  inspiré les compositions de leur album "Spirits" qu'iels verniront ce jo
 ur-là.\nhttps://youtu.be/h8O4LrkSyGs?si=5WotpbMqPOeJLP28\n\n\n# Gahan\nGA
 HAN s'inspire d'un mélange improbable entre l’univers poétique de Jacques
  Brel et l’énergie rock de Keith Richards. Composé de cinq amis, Titi Sot
 tas, Claude Bussard, Christophe Egger, Christian Sallin et Pierre André J
 acquat, le groupe propose un rock francophone, teinté de blues. Leurs cha
 nsons, empreintes d’émotions fortes, parlent d’amour, de doutes, de joies
  et de séparations.\nhttps://mx3.ch/gahan\n\n# Kick Bill\nLe son de Kick 
 Bill, c'est un savant mélange de rock garage, de blues et de punk. Les gu
 itares saturées de Laurent se marient à la perfection avec la basse puiss
 ante de Bob et la batterie solide de Fabian. Et au-dessus de tout ça, la 
 voix de Marine vient sublimer l'ensemble. Les textes, chantés en anglais,
  espagnol et français, abordent des thèmes variés, toujours avec sincérit
 é.\nhttps://youtu.be/RRKmyy81QFs?si=Gi00klMn9yT_SioX\n\n\n---\n\n❤️‍🔥 Ent
 rée libre avec l’**AG culturel** et le **Pass Bienvenue Bulle**.\n\n*Plus
  d’infos sur la réservation avec l’AG Culturel [ici](https://www.ebull.ch
 /fr/abonnements).*\n\n❤️‍🔥 Rabais de 50% sur l’entrée avec la **Carte Cul
 ture Caritas**.
CLASS:PUBLIC
UID:bb4794c9-9cdc-496b-bd98-ef3f28879daa
URL:https://nyght.ch/events/bb4794c9-9cdc-496b-bd98-ef3f28879daa
SUMMARY:Division 4 (CH) *vernissage* + Gahan (CH) + Kick Bill (CH)
LAST-MODIFIED:20260217T163843Z
DTSTAMP:20260422T060908Z
DTSTART:20260227T190000Z
DTEND:20260228T010000Z
END:VEVENT
METHOD:PUBLISH
PRODID:-//Nyght//iCal API//EN
CALSCALE:GREGORIAN
END:VCALENDAR