BEGIN:VCALENDAR
VERSION:2.0
BEGIN:VEVENT
STATUS:CONFIRMED
DESCRIPTION:**Fête !**\n\n# Guntherstaxx & Davidoff\nLe retour de nos pré
 férés ! Comme à son habitude, le duo nous tranchera finement avec du *The
  Cure*, nous mijotera à feu vif avec les *Strokes*, et nous finira irrési
 sistiblement avec *La Femme*, pour un menu 90’s–00’s relevé, croustillant
  et délicieusement nostalgique.\n\n# MZELLE Charlotte\nMême recette avec 
 Carole Frossard, alias MZELLE Charlotte, prête à en découdre avec comme o
 util un all-style délicieusement confectionné !\n\n# Wickram’s Wawes\nTro
 is sœurs, deux cultures, un message : Kirthana, Anandi et Sathya cultiven
 t leur héritage suisso-sri-lankais et partagent des sons qui célèbrent la
  multiculturalité. Leurs choix musicaux illustrent les parcours migratoir
 es et la richesse culturelle de la diversité. Dansez avec elles sur des b
 eats de sororité et de solidarité.\n\n# Jokari\nDigger acharné, Jokari re
 prend place derrière les platines d'Ebull pour nous proposer une excursio
 n à travers sa collection de vinyles, oscillant entre microhouse et techn
 o.
CLASS:PUBLIC
UID:bae2955e-3f67-4a3f-a87a-d2d03aa6a1a8
URL:https://nyght.ch/events/bae2955e-3f67-4a3f-a87a-d2d03aa6a1a8
SUMMARY:P☆RTY !+ Guntherstaxx & Davidoff + MZELLE Charlotte + Wickram’s W
 awes + Jokari
LAST-MODIFIED:20251018T132658Z
DTSTAMP:20260424T075829Z
DTSTART:20251129T210000Z
DTEND:20251130T020000Z
END:VEVENT
METHOD:PUBLISH
PRODID:-//Nyght//iCal API//EN
CALSCALE:GREGORIAN
END:VCALENDAR