BEGIN:VCALENDAR
VERSION:2.0
BEGIN:VEVENT
STATUS:CONFIRMED
DESCRIPTION:**Rap, Soul**\n\n# Demi Portion\nDe retour à Ebull' exactemen
 t *[10 ans et 1 jour plus tard](https://ebull.ch/fr/event?id=d674192a-591
 1-4c08-92b3-585d99320764)*, Rachid Daïf aka Demi Portion tisse depuis plu
 sieurs années un parcours solide dans le rap francophone. L'artiste défen
 d une vision artisanale et humaine de la musique, loin des formats imposé
 s.\nUn retour à Bulle logique, et l'occasion de fêter ses 30 ans de scène
  !\nhttps://youtu.be/4R-wAxktKUI?si=RSd9t7nsL2iAse4R\n\n# WOODI\nA traver
 s un timbre soul et mélodieux, WOODI emmène là où l'intime rencontre le c
 ollectif. Son écriture prend sources dans le rap, la chanson, la pop et l
 a néo soul. D'origine colombienne et suisse d'adoption, l'artiste cultive
  un univers à la fois lumineux et introspectif dans lequel les relations 
 et le rapport à soit face monde sont les thématiques clés abordées, toujo
 urs avec nuance et profondeur.  WOODI imprègne par sa voix et sa plume af
 fûtée dans une fusion équilibré entre flow, texte et mélodies.\n\nDeux an
 nées de concerts en francophonie (CH, FR, BE) on suivit la sortie du 1er 
 EP "On peut le faire" suivit en 2025 d'un 2ème opus de six titres "SOLEIL
  PLEUR". Cette année, WOODI dévoile BITUME un single atmosphérique entre 
 boom-bap et jazz. Emprunt d’émotion et subtilement incisif, ce morceau in
 vite à l’intégrité, à transformer ses vulnérabilités en force motrice.\n\
 nhttps://www.youtube.com/watch?v=z5ktRHhpr1g\n\n\nPour les fans de : Laur
 yn Hill, Disiz, Chilla, Yseult.\n\n\n---\n\n❤️‍🔥 Entrée libre avec l’**AG
  culturel** et le **Pass Bienvenue Bulle**.\n\n*Plus d’infos sur la réser
 vation avec l’AG Culturel [ici](https://www.ebull.ch/fr/abonnements).*\n\
 n❤️‍🔥 Rabais de 50% sur l’entrée avec la **Carte Culture Caritas**.
CLASS:PUBLIC
UID:b79c2600-f6ba-4038-841e-2a5b89dbe477
URL:https://nyght.ch/events/b79c2600-f6ba-4038-841e-2a5b89dbe477
SUMMARY:Demi Portion (FR) + WOODI (CH)
LAST-MODIFIED:20260316T151319Z
DTSTAMP:20260421T152411Z
DTSTART:20260327T190000Z
DTEND:20260328T010000Z
END:VEVENT
METHOD:PUBLISH
PRODID:-//Nyght//iCal API//EN
CALSCALE:GREGORIAN
END:VCALENDAR