BEGIN:VCALENDAR
VERSION:2.0
BEGIN:VEVENT
STATUS:CONFIRMED
DESCRIPTION:**Hard Tek**\n\nLes Tekdown sont de retour <3 Oscillant entre
  Hard, Tek et Acid, les grosses basses trouvent toujours leur place à Ebu
 ll, et seront au rendez-vous pour cette 4ème édition🔥 \n\n[Oni Tsuki ](ht
 tps://www.instagram.com/onitsuki.events/)est une association à but non lu
 cratif d’organisation événementielle créé en 2023.\n“Nos ambitions sont d
 ’organiser des événements musicaux Underground dans des clubs, centres cu
 lturels, festivals… Originaire du canton de Fribourg, plus précisément de
  Bulle, il est important pour nous de s’impliquer dans la culture local. 
 Nous avons à cœur que nos événements soit un lieu de partage, de respect 
 et bien sûr d’amour de la musique.”\n\n⚠️ Ouverture des portes à 22h00.
CLASS:PUBLIC
UID:b6251b9b-ce13-46a9-9482-0449d2c955a4
URL:https://nyght.ch/events/b6251b9b-ce13-46a9-9482-0449d2c955a4
SUMMARY:TEKDOWN 004 by ONITSUKI
LAST-MODIFIED:20251110T192541Z
DTSTAMP:20260424T192336Z
DTSTART:20251115T210000Z
DTEND:20251116T020000Z
END:VEVENT
METHOD:PUBLISH
PRODID:-//Nyght//iCal API//EN
CALSCALE:GREGORIAN
END:VCALENDAR