BEGIN:VCALENDAR
VERSION:2.0
BEGIN:VEVENT
STATUS:CONFIRMED
DESCRIPTION:L'association [Reservoir](https://associationreservoir.ch/) e
 st fière de vous proposer une nouvelle soirée concert, venez découvrir le
 s groupes et jeunes talents qui font vivre la région!\n\nReservoir est un
 e association créé en 2019 et qui a pour but de promouvoir la musique en 
 offrant des services utiles et nécessaires aux musicien-ne-s. L'associati
 on a récemment lancé un projet de locaux de musique, à prix accessible po
 ur encourager le développement des artistes de la région.\n\nMr.Wh!te (pu
 nk metal)\nJulien Victor (groovy pop, folk rock français) \nShunyata (roc
 k alternatif)\nRuppi (drum solo)\nVision of Dawn (rock alternatif)   \nDM
 D (depeche mode deconstruction)\nLes Boboloco (trash ginguette)
CLASS:PUBLIC
UID:b46f7391-7c96-4e62-8539-5425c9604853
URL:https://nyght.ch/events/b46f7391-7c96-4e62-8539-5425c9604853
SUMMARY:Soirée de l'association Reservoir
LAST-MODIFIED:20250919T101128Z
DTSTAMP:20260425T205924Z
DTSTART:20251004T170000Z
DTEND:20251005T000000Z
END:VEVENT
METHOD:PUBLISH
PRODID:-//Nyght//iCal API//EN
CALSCALE:GREGORIAN
END:VCALENDAR