BEGIN:VCALENDAR
VERSION:2.0
BEGIN:VEVENT
STATUS:CONFIRMED
DESCRIPTION:**Tribe** \n\nKMZ Sound System débarque à Ebull' pour une pre
 mière teuf aux sonoritées Tribe! \nIssu des free parties, [Kamikaze](http
 s://www.instagram.com/kmz.soundsystem/) est un jeune collectif local, dét
 erminé à partager leur passion pour la culture *sound systems* et les mus
 iques électroniques.\n\n* 21H00 **TIMESTRETCH THE POLICE B2B DROLE2TYPE**
  *Jungle, Tribe, Vinyle*\n* 22H00 **PIXIE** *Mental, Tribe, Vinyle*\n* 23
 H00 **LABRAIZZZE** *Tribe, Live*\n* 23H45 **ALEXITRONELLE** *Tribe, Live*
 \n* 00H45 **BIOTRONIK23** *Tribe, Live*\n* 01H30 **EKROU** *Tribe, Live*\
 n\nhttps://www.instagram.com/t1m3str3tch_th3_p0l1c3/\nhttps://www.instagr
 am.com/2.drole_de_type.3/\nhttps://www.instagram.com/pixie_pitch_ch/\nhtt
 ps://www.instagram.com/labraizzze/\nhttps://www.instagram.com/alexitronel
 le/\nhttps://www.instagram.com/bioloshit23/\nhttps://www.instagram.com/el
 iott_ekr_/\n\n\n---\n\n❤️‍🔥 Entrée libre avec l’**AG culturel** et le **P
 ass Bienvenue Bulle**.\n\n*Plus d’infos sur la réservation avec l’AG Cult
 urel [ici](https://www.ebull.ch/fr/abonnements).*\n\n❤️‍🔥 Rabais de 50% s
 ur l’entrée avec la **Carte Culture Caritas**.
CLASS:PUBLIC
UID:ae300f82-1da5-41f8-ba36-c7270ed6a62e
URL:https://nyght.ch/events/ae300f82-1da5-41f8-ba36-c7270ed6a62e
SUMMARY:TRIBE'ATTACK ☄ + by Kamikaze Sound System
LAST-MODIFIED:20260407T090543Z
DTSTAMP:20260421T081655Z
DTSTART:20260410T190000Z
DTEND:20260411T010000Z
END:VEVENT
METHOD:PUBLISH
PRODID:-//Nyght//iCal API//EN
CALSCALE:GREGORIAN
END:VCALENDAR