BEGIN:VCALENDAR
VERSION:2.0
BEGIN:VEVENT
STATUS:CONFIRMED
DESCRIPTION:*Hors murs, mais pas trop loin non plus*\n\nC'est un peu comm
 e la fête des voisins, une belle occasion de vraiment faire la fête avec 
 nos cher·es. copain·es du [Café le IIIe](https://www.instagram.com/bar_le
 _3e_bulle/).\n\nL'occasion aussi de vernir notre fanzine, un condensé mod
 este et impertinent qui nous ressemble beaucoup.\nQuoi de mieux que nos t
 atoueur·euses préf' pour embellir cette collaboration, iels vous proposer
 ont plusieurs flash en lien ou pas, avec notre chère Ebull.\n\nSamedi tat
 toos\n👉 Crystel @crystel_ct_tattoo\n👉 Jean @en___jean___b\n👉 Kazu @kazu_t
 attoo\n\nDimanche tattoos\n👉 Janon @bjjanne\n👉 Théo @_.theo_labbe._\n👉 Em
 ma @emma.atome\n\n
CLASS:PUBLIC
UID:ace647b1-046d-4b98-b7a2-17a89091023d
URL:https://nyght.ch/events/ace647b1-046d-4b98-b7a2-17a89091023d
SUMMARY:Café IIIe x Ebull // Expo, Fanzine, Tattoo
LAST-MODIFIED:20250904T094418Z
DTSTAMP:20260426T022841Z
DTSTART:20250927T090000Z
DTEND:20250927T150000Z
END:VEVENT
METHOD:PUBLISH
PRODID:-//Nyght//iCal API//EN
CALSCALE:GREGORIAN
END:VCALENDAR