BEGIN:VCALENDAR
VERSION:2.0
BEGIN:VEVENT
STATUS:CONFIRMED
DESCRIPTION:**Ska Punk Rock Fête**\n\n*⚠️ SOLDOUT! Il n´y aura pas de cai
 sse du soir*\n\n# La Renarde\nFondée en 2000, La Renarde a marqué l’histo
 ire d’Ebullition et est fière d’y terminer en beauté son parcours, en fêt
 ant ses 25 ans d’existence et en rendant hommage à leur premier chanteur 
 Bertrand Gremaud. Pionniers de la fête, leur concert s'annonce ÉNORME !\n
 https://www.youtube.com/watch?v=3l0B2GHEt-k\n\n# Burning Heads\nToujours 
 actifs après 40 années de péripéties romanesques, les Burning Heads ont t
 raversé les époques, contourné les modes et transcendé les styles. Punk, 
 Hardcore, Oï, Reggae... Ils sont devenus l’un des groupes les plus endura
 nts et respectés du microcosme alternatif, tournée après tournée, album a
 près album.\nhttps://youtu.be/vA-JAmdgtAE?si=B9EKNTQY0cWB88bZ\n\n\n# Athl
 ete\nPour les fans de bières, punk et copaines.\nOn ne les présente plus,
  super-groupe anti-star, les quatre athlètes déferlent leur Punk Rock fau
 ssement Pop et mélancolique à travers le globe. Avec un deuxième album fr
 aîchement verni, les rois du DIY ouvriront les festivités de cette soirée
  effervescente.\nhttps://www.youtube.com/watch?v=RUVN11zXoFk
CLASS:PUBLIC
UID:a570187f-1d4e-4f56-92a3-d87e35bd984d
URL:https://nyght.ch/events/a570187f-1d4e-4f56-92a3-d87e35bd984d
SUMMARY:! SOLDOUT ! + La Renarde (CH) *concert hommage* + Burning Heads (
 FR) + Athlete (CH)
LAST-MODIFIED:20251012T090534Z
DTSTAMP:20260425T154231Z
DTSTART:20251017T180000Z
DTEND:20251018T000000Z
END:VEVENT
METHOD:PUBLISH
PRODID:-//Nyght//iCal API//EN
CALSCALE:GREGORIAN
END:VCALENDAR