BEGIN:VCALENDAR
VERSION:2.0
BEGIN:VEVENT
STATUS:CONFIRMED
DESCRIPTION:**Dune (1984)**\n\n**PORTES 20h00, DEBUT 20H30**\n\nUn max de
  fun pour cette nouvelle séance de cinéma à prix libre ! Tu te pointes, t
 u prends ton pop-corn offert, et tu profites du meilleur ratio taille d’é
 cran/prix du siège de l’univers.\n\n**Cette semaine**: *Dune* (1984, US) 
 de David Lynch \n\nEn l'honneur de la mort de celui dont on ne se remet t
 oujours pas, venez découvrir cette adaptation clivante de la célèbre saga
  de Frank Herbert. Oui, parce qu'avant Villeneuve, il y a eu Lynch. Le ré
 alisateur signe ici un space opera aussi grandiose que chaotique : intrig
 ues politiques interstellaires, visions mystiques, vers des sables gigant
 esques… et Sting en slip métallique. Objet étrange, baroque et fascinant,
  le film divise encore aujourd’hui, mais il a marqué toute une génération
  de spectateurs par son audace visuelle et son atmosphère unique.\n\nOuve
 rt à tous les exégètes (surtout Pacôme Thiellement)\n\n**TW**: batailles 
 violentes incluant du body horror (chair brûlée, jets de sang, morsures, 
 tête coupée) 
CLASS:PUBLIC
UID:9fc6bb60-5033-4f03-b3c7-eb83dc2f4c21
URL:https://nyght.ch/events/9fc6bb60-5033-4f03-b3c7-eb83dc2f4c21
SUMMARY:Cinébull : projection 5
LAST-MODIFIED:20260108T104921Z
DTSTAMP:20260423T021955Z
DTSTART:20260129T190000Z
DTEND:20260129T230000Z
END:VEVENT
METHOD:PUBLISH
PRODID:-//Nyght//iCal API//EN
CALSCALE:GREGORIAN
END:VCALENDAR