BEGIN:VCALENDAR
VERSION:2.0
BEGIN:VEVENT
STATUS:CONFIRMED
DESCRIPTION:**Théâtre, poème épique, slam\n**\n\nC'est en racontant une h
 istoire banale qu'on la rend extraordinaire. \nIls et elles aiment, rient
 , souffrent, font souffrir, cherchent une place dans un monde que vous co
 nnaissez bien, puisque c'est le vôtre. Épopée urbaine et contemporaine, L
 es nouveaux anciens raconte leurs histoires à la manière des mythes antiq
 ues, pour faire de personnages ordinaires des dieux et déesses qui vivent
  encore parmi nous, au PMU du coin, au bureau, dans les embouteillages, l
 es boîtes de nuit et les maisons silencieuses.\n\n//\n\n*L’œuvre Les Nouv
 eaux Anciens de Kae Tempest (traduction de Louise Bartlett et D’ De Kabal
 ) est publiée et représentée par L'ARCHE - éditeur & agence théâtrale. ht
 tp://www.arche-editeur.com/ *\n\n\nLa Cie Effectif Réduit\nComédien·nes :
  Jeanne Girard et Bryan Oberson 
CLASS:PUBLIC
UID:97db66c3-7823-4791-8845-681c7cf4871d
URL:https://nyght.ch/events/97db66c3-7823-4791-8845-681c7cf4871d
SUMMARY:La Cie Effectif Réduit présente + "Les Nouveaux Anciens" de Kae T
 empest
LAST-MODIFIED:20251022T135537Z
DTSTAMP:20260425T135145Z
DTSTART:20251023T180000Z
DTEND:20251023T210000Z
END:VEVENT
METHOD:PUBLISH
PRODID:-//Nyght//iCal API//EN
CALSCALE:GREGORIAN
END:VCALENDAR