BEGIN:VCALENDAR
VERSION:2.0
BEGIN:VEVENT
STATUS:CONFIRMED
DESCRIPTION:### A𝑓t𝑒𝑟 Pa𝑟𝑡y\n### \n\nViens découvrir la ville de Bulle au
 trement, et terminer cette journée avec Différences Solidaires à Ebull!\n
 \n[Différences Solidaires](https://www.differences-solidaires.ch/associat
 ion/), reconnue d’utilité publique, accompagne les personnes en situation
  d’handicap dans l’organisation d’activités en plein air. Cette date, en 
 collaboration avec Ebullition et avec le soutien du Musée Gruérien, Diffé
 rences Solidaires vous propose deux randonnées guidées d'une heure trente
  pour découvrir tous les secrets de Bulle!\n\n\nEnsuite, dès 16h à Ebull 
 :\n\n\n* 👉 Quizz musical\n* 👉 Bar et stand de crêpes sucrées - salées\n* 
 👉 DJ et animations comme on sait si bien le faire\n\n\nBref, une soirée d
 étente ouverte à toustes, ça ne se loupe pas ❤️\n\n\n❤️‍🔥 Entrée libre\n\
 n\nℹ️ Renseignements et inscriptions pour les randonnées:\nhockey@differe
 nces-solidaires.ch / 079 338 50 23
CLASS:PUBLIC
UID:9532e890-7db9-4886-ae29-de6090456043
URL:https://nyght.ch/events/9532e890-7db9-4886-ae29-de6090456043
SUMMARY:Journée avec l'association Différences Solidaires
LAST-MODIFIED:20250902T132505Z
DTSTAMP:20260426T041124Z
DTSTART:20250926T140000Z
DTEND:20250926T215900Z
END:VEVENT
METHOD:PUBLISH
PRODID:-//Nyght//iCal API//EN
CALSCALE:GREGORIAN
END:VCALENDAR