BEGIN:VCALENDAR
VERSION:2.0
BEGIN:VEVENT
STATUS:CONFIRMED
DESCRIPTION:**Blues Rock Cumbia**\n\n# La Doce\nLa Doce, c’est le nouveau
  projet de cumbia né à Fribourg qui amène naturellement du soleil dans le
 s cœurs et fait danser les âmes. Un groove festif sorti des fameuses jams
  du 12 Barres réunit plusieurs cultures pouvant aller jusqu’à 14 musicien
 s sur scène venus de Suisse, de Colombie, du Chili, de Bolivie, d’Austral
 ie, d’Italie et du Pérou. De la bonne humeur, de la danse et des rires : 
 c’est ça la Doce.\nhttps://www.youtube.com/watch?v=izQP93KZ0q0&list=RDizQ
 P93KZ0q0&start_radio=1\n\n# Nerami\nUne collision douce-amère entre le bl
 ues ancestral du Mali et le rock’n’roll belge. Mélangeant instruments tra
 ditionnels africains et contemporains, chantant en bambara et en anglais,
  le groupe offre un pont entre deux mondes, deux cultures.\nUn peu comme 
 si l'Escaut se jetait dans le fleuve Niger ou inversement !\nhttps://www.
 youtube.com/watch?v=LFZQ60EWU74&list=RDLFZQ60EWU74&start_radio=1\n\n**Aft
 er DJ avec Upa Chalupa !**
CLASS:PUBLIC
UID:8fcab1e7-d5b8-45dc-bf71-e0922ab5b211
URL:https://nyght.ch/events/8fcab1e7-d5b8-45dc-bf71-e0922ab5b211
SUMMARY:La Doce (CH) + Nerami (BEL/MLI) + Dj Upa Chalupa (CH)
LAST-MODIFIED:20260113T153626Z
DTSTAMP:20260422T223242Z
DTSTART:20260206T190000Z
DTEND:20260207T010000Z
END:VEVENT
METHOD:PUBLISH
PRODID:-//Nyght//iCal API//EN
CALSCALE:GREGORIAN
END:VCALENDAR