BEGIN:VCALENDAR
VERSION:2.0
BEGIN:VEVENT
STATUS:CONFIRMED
DESCRIPTION:**Garage Punk & Skatefilm par Lavatronic**\n\n# Gee Tee\nDepu
 is une quinzaine d’années, l’Australie semble être devenue le nouvel eldo
 rado du rock'n'roll.\nÀ la réputation freak et aux concerts tapageurs, le
  combo de Sydney délivre un Garage Punk démoniaque aux voix goblinesques 
 et guitares rugueuses.\nhttps://www.youtube.com/watch?v=Ce9IMePc70U\n\n# 
 1-800 Mikey\nMichael Barker (membre de Gee Tee et R.M.F.C.) a réussi à fa
 ire passer ce bedroom project de power-pop punk infusé de riffs gargantue
 sques, au niveau supérieur. Le nouveau son « Rental Girlfriend » parvient
  à capturer toute cette énergie positive qui vous fait tomber épuisé lors
  de ses concerts, avec un des line-up les plus excitants de la nouvelle s
 cène australienne.\nhttps://www.youtube.com/watch?v=8zVT3K5Hf0E\n\n# Sun 
 Cousto\nUn mélange de punk, de pop authentique et d'expérimentation libre
  et assumée. Revendiquant toujours ses influences lofi/twee, Sun Cousto t
 ranscende les styles et les codes pour s'exprimer frontalement, se dévoil
 ant dans de petites histoires semi-autofictives. “HEY YOU ! YOU LIKE MY S
 TYLE : YOU WANNA PLAY IN MY BAND !”\nhttps://www.youtube.com/watch?v=grVA
 GjD8vzw\n\n///\n\n* Doors: 17h00\n* Sun Cousto: 18h00\n* 1-800 Mikey: 19h
 15\n* Skate film by Lavatronic: 19h50\n* Gee Tee: 20h45\n* Curfew: 23h00\
 n
CLASS:PUBLIC
UID:88387188-ca8b-4b7b-9958-4ac58f3a0efe
URL:https://nyght.ch/events/88387188-ca8b-4b7b-9958-4ac58f3a0efe
SUMMARY:Sunday Punk Matinee! + Gee Tee (AUS) + 1-800 Mikey (AUS) + Sun Co
 usto (CH)
LAST-MODIFIED:20250909T065604Z
DTSTAMP:20260425T225602Z
DTSTART:20250928T150000Z
DTEND:20250928T215900Z
END:VEVENT
METHOD:PUBLISH
PRODID:-//Nyght//iCal API//EN
CALSCALE:GREGORIAN
END:VCALENDAR