BEGIN:VCALENDAR
VERSION:2.0
BEGIN:VEVENT
STATUS:CONFIRMED
DESCRIPTION:#### Spectacle d'impro\n#### \n\nUne histoire improvisée qui 
 sera rythmée par vos propositions, tout au long de la soirée. Comme ces l
 ivres où on nous envoie à une page selon ce qu'on choisit.\n\n\n// Ouvert
 ure des portes à 19h00, spectacle à 20h00\n
CLASS:PUBLIC
UID:86b9e3ac-75b3-4e42-b865-4d4fd517c2ba
URL:https://nyght.ch/events/86b9e3ac-75b3-4e42-b865-4d4fd517c2ba
SUMMARY:Les ImprOvisibles + "Dont vous êtes le héros"
LAST-MODIFIED:20250924T184340Z
DTSTAMP:20260425T192342Z
DTSTART:20251009T170000Z
DTEND:20251009T215900Z
END:VEVENT
METHOD:PUBLISH
PRODID:-//Nyght//iCal API//EN
CALSCALE:GREGORIAN
END:VCALENDAR