BEGIN:VCALENDAR
VERSION:2.0
BEGIN:VEVENT
STATUS:CONFIRMED
DESCRIPTION:#### Spectacle d'impro\n\nUn petit cadeau en avance pour cett
 e fin d'année. Venez découvrir ce que les ImrpOvisibles vous ont concocté
 .\n\n\n// Ouverture des portes à 20h00, spectacle à 20h30\n
CLASS:PUBLIC
UID:8113064c-7d32-4b71-a62a-fc6dd85c2ad3
URL:https://nyght.ch/events/8113064c-7d32-4b71-a62a-fc6dd85c2ad3
SUMMARY:Les ImprOvisibles + "Soirée de Noël"
LAST-MODIFIED:20251125T133728Z
DTSTAMP:20260423T235738Z
DTSTART:20251212T190000Z
DTEND:20251212T225900Z
END:VEVENT
METHOD:PUBLISH
PRODID:-//Nyght//iCal API//EN
CALSCALE:GREGORIAN
END:VCALENDAR