BEGIN:VCALENDAR
VERSION:2.0
BEGIN:VEVENT
STATUS:CONFIRMED
DESCRIPTION:**Spectacle d'impro pour les kids**\n\nChez les ImprOvisibles
 , on aime aussi créer des histoires avec et pour notre jeune public.\nImp
 roKids, c’est un spectacle totalement improvisé, pour les enfants dès 5 a
 ns.\n\n\nEt le goûter est offert !\n\n\n// Ouverture des portes à 16h00, 
 spectacle à 16h30\n\n\n---\n\n❤️‍🔥 Entrée libre avec l’**AG culturel** et
  le **Pass Bienvenue Bulle**.\n\n*Plus d’infos sur la réservation avec l’
 AG Culturel [ici](https://www.ebull.ch/fr/abonnements).*\n\n❤️‍🔥 Rabais d
 e 50% sur l’entrée avec la **Carte Culture Caritas**.
CLASS:PUBLIC
UID:7bb9d512-9173-4bd1-88e1-e9929e64defd
URL:https://nyght.ch/events/7bb9d512-9173-4bd1-88e1-e9929e64defd
SUMMARY:ImproKids + par Les ImprOvisibles
LAST-MODIFIED:20260217T164110Z
DTSTAMP:20260421T114410Z
DTSTART:20260329T140000Z
DTEND:20260329T180000Z
END:VEVENT
METHOD:PUBLISH
PRODID:-//Nyght//iCal API//EN
CALSCALE:GREGORIAN
END:VCALENDAR