BEGIN:VCALENDAR
VERSION:2.0
BEGIN:VEVENT
STATUS:CONFIRMED
DESCRIPTION:**Metal**\n\n# Witch Fever\nEntre deux dates de tournée avec 
 Volbeat, Witch Fever nous accorde l’honneur de faire un crochet par Bulle
  !\nAvec leur son massif et leur colère libératrice, le quatuor britanniq
 ue dresse par sa musique un message franc et inclusif sur ce monde en cha
 os.\nhttps://www.youtube.com/watch?v=s9cIY2yLa0Y&list=RDs9cIY2yLa0Y&start
 _radio=1\n\n# Mesmerised\nNé à quelques mois d’intervalle d’Ébullition, M
 esmerised et ses quatre gaillards ont tracé l’histoire de la salle et de 
 la scène Hard locale. Leur constance captive et inspire. En 2012, leur co
 ncert fut même la première venue à Ebull’ de notre programmateur actuel !
 \nhttps://www.youtube.com/watch?v=GmBQ4xKavCA\n\n# Crimson Pride\nPlace m
 aintenant à la nouveauté ! Fribourg est un nid à musique forte et explosi
 f. Avec son savant mélange de Rock et de Metal, Crimson Pride sort un pre
 mier album en 2023 et revient en 2025 avec des morceaux neufs et toujours
  aussi produits.\nhttps://www.youtube.com/watch?v=gc9grMovYsc&list=RDgc9g
 rMovYsc&start_radio=1\n\n🔥❤️‍🔥🔥
CLASS:PUBLIC
UID:7b1c44fd-0153-4c61-9f4d-f588cec2459b
URL:https://nyght.ch/events/7b1c44fd-0153-4c61-9f4d-f588cec2459b
SUMMARY:Witch Fever (UK) + Mesmerised (CH) + Crimson Pride (CH)
LAST-MODIFIED:20250823T104727Z
DTSTAMP:20260425T114850Z
DTSTART:20251024T180000Z
DTEND:20251024T215900Z
END:VEVENT
METHOD:PUBLISH
PRODID:-//Nyght//iCal API//EN
CALSCALE:GREGORIAN
END:VCALENDAR