BEGIN:VCALENDAR
VERSION:2.0
BEGIN:VEVENT
STATUS:CONFIRMED
DESCRIPTION:#### Spectacle d'impro\n\nEbullition a été un cinéma, le Lux.
  Nous nous emparons des meilleurs styles cinématographiques et autres joy
 eusetés techniques pour vous proposer une soirée autour du cinéma, improv
 isée bien sûr!\n\n\n// Ouverture des portes à 19h00, spectacle à 20h00\n
CLASS:PUBLIC
UID:79b42a45-73a4-44c9-a8cd-8459c505ed7b
URL:https://nyght.ch/events/79b42a45-73a4-44c9-a8cd-8459c505ed7b
SUMMARY:Les ImprOvisibles + "Petit Lulu"
LAST-MODIFIED:20250924T184550Z
DTSTAMP:20260424T160611Z
DTSTART:20251120T180000Z
DTEND:20251120T225900Z
END:VEVENT
METHOD:PUBLISH
PRODID:-//Nyght//iCal API//EN
CALSCALE:GREGORIAN
END:VCALENDAR