BEGIN:VCALENDAR
VERSION:2.0
BEGIN:VEVENT
STATUS:CONFIRMED
DESCRIPTION:**Jam Session**\n\nJuste l’envie de partager, de rencontrer, 
 de chiller et de vibrer ensemble au rythme de la musique. Viens passer to
 n dimanche dans un endroit chaleureux, autour d’un thé, d’un café, de que
 lques petits gâteaux :)
CLASS:PUBLIC
UID:7331d165-3433-4918-975e-fe5f95384e30
URL:https://nyght.ch/events/7331d165-3433-4918-975e-fe5f95384e30
SUMMARY:Ebull'Jam,  le retour ! ♬
LAST-MODIFIED:20251028T132539Z
DTSTAMP:20260424T175152Z
DTSTART:20251116T150000Z
DTEND:20251116T190000Z
END:VEVENT
METHOD:PUBLISH
PRODID:-//Nyght//iCal API//EN
CALSCALE:GREGORIAN
END:VCALENDAR