BEGIN:VCALENDAR
VERSION:2.0
BEGIN:VEVENT
STATUS:CONFIRMED
DESCRIPTION:**«Si ! Sex & meufs »**\n\n*1ère édition! Créé et animé par [
 Sylvain Grangier](https://www.instagram.com/sylrael/) *\n\nCamarade ! Par
 ticipe au terrible quiz du tout aussi terrible El Presidente ! Par duo, d
 éfie les autres équipes sur des questions de culture colonelle (c’est com
 me générale, mais en plus restreint). Les thèmes ? Les pratiques sexuelle
 s d’une part, et les femmes dans l’histoire d’autre part : c’est le plan 
 bicéphale (on a pas le temps pour un plan quinquennal). Les questions son
 t dures, mais vous allez apprendre des choses ! Arriverez-vous à vous his
 ser jusqu’à la finale et gagner le grand prix d’une valeur absolument est
 imable ?\n\nPour participer, trouve-toi un.e.x partenaire de jeu, prends 
 ton natel et viens à Ebull’ ! Inscription des équipes sur place, prévente
 s sur Petzi.\n\nUn Quiz très show, comico-ludique et tropicommuniste paro
 dique ! – La Depravda\n\n* Ouverture des portes : 19h30\n* Ouverture ride
 au de fer : 20h00
CLASS:PUBLIC
UID:65b564f3-5feb-4dc3-bcb6-2b5a5aa15660
URL:https://nyght.ch/events/65b564f3-5feb-4dc3-bcb6-2b5a5aa15660
SUMMARY:TropiQuiz ☭
LAST-MODIFIED:20251111T095156Z
DTSTAMP:20260424T053201Z
DTSTART:20251203T183000Z
DTEND:20251203T220000Z
END:VEVENT
METHOD:PUBLISH
PRODID:-//Nyght//iCal API//EN
CALSCALE:GREGORIAN
END:VCALENDAR