BEGIN:VCALENDAR
VERSION:2.0
BEGIN:VEVENT
STATUS:CONFIRMED
DESCRIPTION:**En collaboration avec [les Hauts Parleurs](https://leshauts
 parleurs.ch/)**\n\n# Louis Jucker\nun artiste complet, un contrôle de sa 
 voix permettant de vivre la douceur, de vivre un moment en suspens de fol
 k-intimiste. Venu de la Chaux-de-Fond, ce bricoleur vous attrape de par s
 a présence scénique pour vous faire vivre une expérience unique. Ce music
 ien romand des plus reconnu, producteur d'énormément de disques, souvent 
 chez Hummus Records, voix explosive de Coilguns, scientifique fou de la m
 usique, vous laissera un souvenir enveloppé de tendresse. Il viendra fair
 e vivre son projet suitcase, où chaque valise transformée par ses soins c
 réera une musique transportante.\nhttps://www.youtube.com/watch?v=Cfwg1ux
 _Ttk\n\n# Ne surtout pas diminuer les nuisances\nC’est une invitation à p
 rêter l’oreille au monde, à se laisser traverser par ce qui nous entoure,
  les sons, les gestes, les paroles, les instants suspendus du quotidien. 
 Par cette performance, le collectif Buro d'Archi éclaire ces petites “nui
 sances” qui tissent nos vies : celles qui nous font sourire, celles qui n
 ous lassent, celles qui apaisent ou dérangent. Une lecture bruyante et so
 urde, dérangeante et organisée.\n\n\nDurée : 40 minutes\n\n---\n\n*Direct
 ion artistique : [Collectif Buro d'Archi](https://oh-la-la.ch/artistes/bu
 ro-d-archi-maude-bovey-yann-hermenjat) & Giulietta Mottini\nTexte : Giuli
 etta Mottini\nMise en scène : Yann Hermenjat\nScénographie : Maude Bovey\
 nJeu: Araksan Laisney / Igaëlle Venegas / Lisa Wallinger\nCréation lumièr
 e et régie: Donatien Pivetaud\nProduction et diffusion: Maxine Devaud / o
 h la la - performing arts production\nAdministration: Angie Mennillo / oh
  la la - performing arts production*\n\n\n---\n\n❤️‍🔥 Entrée libre avec l
 ’**AG culturel** et le **Pass Bienvenue Bulle**.\n\n*Plus d’infos sur la 
 réservation avec l’AG Culturel [ici](https://www.ebull.ch/fr/abonnements)
 .*\n\n❤️‍🔥 Rabais de 50% sur l’entrée avec la **Carte Culture Caritas**.
CLASS:PUBLIC
UID:60fb23e0-d908-4597-bfb4-d2f266150fd9
URL:https://nyght.ch/events/60fb23e0-d908-4597-bfb4-d2f266150fd9
SUMMARY:Louis Jucker (CH) + "Ne surtout pas diminuer les nuisances" + par
  le collectif Buro d'Archi (CH)
LAST-MODIFIED:20260217T164018Z
DTSTAMP:20260421T211005Z
DTSTART:20260314T190000Z
DTEND:20260315T000000Z
END:VEVENT
METHOD:PUBLISH
PRODID:-//Nyght//iCal API//EN
CALSCALE:GREGORIAN
END:VCALENDAR