BEGIN:VCALENDAR
VERSION:2.0
BEGIN:VEVENT
STATUS:CONFIRMED
DESCRIPTION:**Jeux Vidéos et de Plateau**\n\nOn ne te la présente plus, c
 'est la double journée (ou weekend, comme tu préfère) où on remplit Ebull
  de dés, de cartes et de manettes, et où toi tu viens passer le plus chil
 l des moment en (re)découvrant les meilleurs jeux avec les meilleures per
 sonnes<3\n\n\n(Parfois y'a aussi à manger)\n\n\n### TropiQuiz\nPour sa se
 conde édition, le terrible quiz créé et animé par Sylvain Grangier, prend
  place entre les parties de jeux de cartes pour te faire gagner des prix 
 tout aussi terribles.\n\n\nViens avec ton binôme, inscriptions des équipe
 s sur place et qualifications dès 20h.\n\n\n❤️‍🔥 Entrée Libre
CLASS:PUBLIC
UID:5fb1349a-254e-4c3d-b62b-79f390aeb314
URL:https://nyght.ch/events/5fb1349a-254e-4c3d-b62b-79f390aeb314
SUMMARY:Weekend Gaming & Chill + ft. TropiQuiz
LAST-MODIFIED:20260203T104813Z
DTSTAMP:20260422T150606Z
DTSTART:20260215T150000Z
DTEND:20260215T225900Z
END:VEVENT
METHOD:PUBLISH
PRODID:-//Nyght//iCal API//EN
CALSCALE:GREGORIAN
END:VCALENDAR