BEGIN:VCALENDAR
VERSION:2.0
BEGIN:VEVENT
STATUS:CONFIRMED
DESCRIPTION:**The Host (2006)**\n\n**PORTES 20h00, DEBUT 20H30**\n\nUn ma
 x de fun pour cette nouvelle séance de cinéma à prix libre ! Tu te pointe
 s, tu prends ton pop-corn offert, et tu profites du meilleur ratio taille
  d’écran/prix du siège de l’univers.\n\n**Cette semaine**: *The Host* (20
 06, Corée du Sud) de Bong Joon-ho\n\nUn monstre surgit du fleuve Han et s
 ème la panique à Séoul. Mais au lieu d’une armée ou d’un héros classique,
  c’est une famille complètement bancale – père maladroit, enfants récalci
 trants, grand-père fatigué – qui se lance à sa poursuite pour sauver leur
  cadette. Bong Joon-ho détourne le film de monstre pour en faire une sati
 re sociale et un drame familial bouleversant, le tout avec un humour noir
  irrésistible.\n\nOuvert aux amis de Thierry Jobin. 
CLASS:PUBLIC
UID:5fa9c6c3-2885-4369-b94d-96cb370cdd5f
URL:https://nyght.ch/events/5fa9c6c3-2885-4369-b94d-96cb370cdd5f
SUMMARY:Cinébull : Projection 3
LAST-MODIFIED:20251119T162145Z
DTSTAMP:20260424T101351Z
DTSTART:20251127T190000Z
DTEND:20251127T230000Z
END:VEVENT
METHOD:PUBLISH
PRODID:-//Nyght//iCal API//EN
CALSCALE:GREGORIAN
END:VCALENDAR