BEGIN:VCALENDAR
VERSION:2.0
BEGIN:VEVENT
STATUS:CONFIRMED
DESCRIPTION:**PORTES 15h00, DEBUT 15H30**\n\nUn max de fun pour cette nou
 velle séance de cinéma à prix libre ! Tu te pointes, tu prends ton pop-co
 rn offert, et tu profites du meilleur ratio taille d’écran/prix du siège 
 de l’univers.\n\n**Cette semaine**: *Alice in Wonderland: A musical porno
 * (1976, HK) de Bud Townysend \n\nEt si Alice tombait dans un terrier pas
  tout à fait comme les autres ? Ce détournement culte des années 70 repre
 nd l’univers de Lewis Carroll pour le transformer en comédie musicale éro
 tique, kitsch et délirante, pleine de chansons improbables et de numéros 
 aussi extravagants que dénudés. Objet de curiosité autant que pépite unde
 rground, c’est une fantaisie qui ne se prend jamais au sérieux.\n\n**Suiv
 i de :**  *Ca glisse au pays des merveilles !*, (2010, France) documentai
 re de Olivier Ghis\n\nDepuis sa création, le cinéma pornographique s'est 
 fait une spécialité de détourner, en les pimentant légèrement, les succès
  du 7e art. "Nique Bill", "Les Visiteuses", "L'arrière-train sifflera tro
 is fois", "Anus beauté" : les titres revisités sont même devenus un genre
  en soi. Ainsi, la société Private affiche dans son catalogue une sélecti
 on de "parody movies" qui compte plus de cent titres. Qu'ils oeuvrent à B
 oulogne, Milan ou San Fernando, pourquoi les pornocrates se plaisent-ils 
 à se moquer du cinéma traditionnel ? Qu'en pensent les "victimes", réalis
 ateurs ou producteurs ? Existe-t-il une jurisprudence à la matière ? Voya
 ge amusé et curieux sur les terres méconnues des parodies X.\n\nOuvert au
 x fans d'Alice Cooper. \n\n\n⚠️ TW : Sex, nudity
CLASS:PUBLIC
UID:5a8437bb-2a49-48fb-8425-2987436bd13b
URL:https://nyght.ch/events/5a8437bb-2a49-48fb-8425-2987436bd13b
SUMMARY:Cinébull : Film de Boule(s) (de Noël), double séance
LAST-MODIFIED:20251119T161927Z
DTSTAMP:20260423T220356Z
DTSTART:20251214T140000Z
DTEND:20251214T190000Z
END:VEVENT
METHOD:PUBLISH
PRODID:-//Nyght//iCal API//EN
CALSCALE:GREGORIAN
END:VCALENDAR