BEGIN:VCALENDAR
VERSION:2.0
BEGIN:VEVENT
STATUS:CONFIRMED
DESCRIPTION:**Humour**\n\n⚠️ REPORT ⚠️\nPour des raisons de santé, Emma B
 ojan reporte la date du 23.01.2026 au dimanche 01.03.2026.\nLes billets d
 éjà achetés restent valables.\n\nUltra-active sur les réseaux, aussi chro
 niqueuse sur France Inter, ***[Emma Bojan](https://www.instagram.com/emma
 candcheese/)*** représente une Gen Z vulnérable, authentique et un peu dé
 calée. Son humour, souvent absurde, touche notre intimité et nous remet à
  la recherche de notre place dans ce monde qui pue un peu l'horreur.\n\n*
 **Attends-moi, j'arrive!***\n"Fuck madame Bouléro et la 5e b qui n'avaien
 t jamais cru en moi.\nSurement le plus gros banger de tous mes spectacles
  (et aussi le premier).\nAimer tous les jours, pleurer un peu et parler b
 eaucoup, voilà ce qui prend le plus de temps, voilà pourquoi je suis souv
 ent en retard et je dis "Attends moi, j'arrive".\nJ'arrive sur scène, dan
 s un bar ou dans le coeur des gens que j'aime, comme partout, un peu en r
 etard mais rassurez vous je suis bien partie."\n\nenv. 1h10\n\nCo-auteur 
 : Etienne Lautrette\n
CLASS:PUBLIC
UID:53ec52d3-27bc-400e-8e17-3fe996c4631b
URL:https://nyght.ch/events/53ec52d3-27bc-400e-8e17-3fe996c4631b
SUMMARY:⚠️REPORTÉ⚠️+Emma Bojan + "Attends-moi, j'arrive!"
LAST-MODIFIED:20260124T202653Z
DTSTAMP:20260423T042055Z
DTSTART:20260125T180000Z
DTEND:20260125T220000Z
END:VEVENT
METHOD:PUBLISH
PRODID:-//Nyght//iCal API//EN
CALSCALE:GREGORIAN
END:VCALENDAR