BEGIN:VCALENDAR
VERSION:2.0
BEGIN:VEVENT
STATUS:CONFIRMED
DESCRIPTION:**Jam Session & OpenStage**\n\nDe la musique, une ambiance ch
 ouette et des gâteaux, que demander de mieux pour un premier dimanche de 
 printemps ?\n\nViens passer ton dimanche dans un endroit chaleureux, auto
 ur d’un thé, d’un café et de quelques petits gâteaux  🍰🎶\n\n\nDispo sur p
 lace : amplis basse et guitares, batterie, clavier, micros.\n\n\n---\n\n❤
 ️‍🔥 Entrée libre
CLASS:PUBLIC
UID:526ded86-94a7-4bf8-8ecc-59deba60832e
URL:https://nyght.ch/events/526ded86-94a7-4bf8-8ecc-59deba60832e
SUMMARY:Ebull'Jam & OpenStage ! ♬
LAST-MODIFIED:20260303T103704Z
DTSTAMP:20260421T191921Z
DTSTART:20260322T130000Z
DTEND:20260322T170000Z
END:VEVENT
METHOD:PUBLISH
PRODID:-//Nyght//iCal API//EN
CALSCALE:GREGORIAN
END:VCALENDAR