BEGIN:VCALENDAR
VERSION:2.0
BEGIN:VEVENT
STATUS:CONFIRMED
DESCRIPTION:**bass, techno, ambient**\n\nanomalie revient pour sa deuxièm
 e édition et s’entoure de bin, art.ic & Nidor, le tout sonorisé par le Re
 dubtion Soundsystem.\n\n# bin\nArtiste suisse en pleine ascension, bin na
 vigue entre bass music et techno. Refusant toute étiquette, elle livre de
 s sets éclectiques, chargés d’énergie, de contrastes et d’émotions.\n\n# 
 art.ic b2b nidor\nLe duo art.ic b2b Nidor explore les frontières des genr
 es : basslines profondes, grooves hypnotisants et atmosphères immersives 
 se mêlent pour créer un voyage sonore unique.\n\nIls sont également les o
 rganisateurs d’anomalie et ils vous invitent à une soirée où chaque basse
  vous transporte, amplifiée par un soundsystem pensé pour faire vibrer au
 tant le corps que l’esprit.\n\n\n---\n\n❤️‍🔥 Entrée libre avec l’**AG cul
 turel** et le **Pass Bienvenue Bulle**.\n\n*Plus d’infos sur la réservati
 on avec l’AG Culturel [ici](https://www.ebull.ch/fr/abonnements).*\n\n\n❤
 ️‍🔥 Rabais de 50% sur l’entrée avec la **Carte Culture Caritas**.
CLASS:PUBLIC
UID:51a9e8f9-4b04-4254-8052-9da08e08eeff
URL:https://nyght.ch/events/51a9e8f9-4b04-4254-8052-9da08e08eeff
SUMMARY:"anomalie" w/ bin (CH) + art.ic b2b nidor (CH)
LAST-MODIFIED:20260217T163714Z
DTSTAMP:20260422T130827Z
DTSTART:20260220T210000Z
DTEND:20260221T020000Z
END:VEVENT
METHOD:PUBLISH
PRODID:-//Nyght//iCal API//EN
CALSCALE:GREGORIAN
END:VCALENDAR