BEGIN:VCALENDAR
VERSION:2.0
BEGIN:VEVENT
STATUS:CONFIRMED
DESCRIPTION:**Jam & Open Stage**\n\nJuste l’envie de partager, de rencont
 rer, de chiller et de vibrer ensemble au rythme de la musique. Viens pass
 er ton dimanche dans un endroit chaleureux, autour d’un thé, d’un café, d
 e quelques petits gâteaux et de musique <3
CLASS:PUBLIC
UID:4b74176c-ab63-4d1f-913e-3151cbf552f4
URL:https://nyght.ch/events/4b74176c-ab63-4d1f-913e-3151cbf552f4
SUMMARY:Ebull'Jam ! ♬
LAST-MODIFIED:20260113T085429Z
DTSTAMP:20260423T094842Z
DTSTART:20260118T130000Z
DTEND:20260118T170000Z
END:VEVENT
METHOD:PUBLISH
PRODID:-//Nyght//iCal API//EN
CALSCALE:GREGORIAN
END:VCALENDAR