BEGIN:VCALENDAR
VERSION:2.0
BEGIN:VEVENT
STATUS:CONFIRMED
DESCRIPTION:**Shopping, DJ, Party**\n\nVidez, troquez, dansez ! Le Vide D
 ressing Nocturne est de retour, il est grand temps de faire du tri, tout 
 en faisant la fête ✦\n\n\n* 20h - 00h // Vide dressing\n* 20h - 22h 😓 DJ 
 [Bravo Cointreau Citron](https://www.instagram.com/andeoool/)\n* 22h - 00
 h 😜 DJ [Kush](https://www.instagram.com/shunyata.band/)\n* 00h - 01h30 😍 
 [Jaquadit](https://www.instagram.com/jajaquadit/)\n\n\nRamène ton ständer
 /portant à vêtement CHF 10.- la place\nInscriptions -> membres@ebull.ch\n
 \n\n
CLASS:PUBLIC
UID:42f44373-36a6-436f-85b4-4b1bcb071eec
URL:https://nyght.ch/events/42f44373-36a6-436f-85b4-4b1bcb071eec
SUMMARY:Vide Dressing Nocturne 🌒%
LAST-MODIFIED:20260107T111753Z
DTSTAMP:20260423T001935Z
DTSTART:20260131T190000Z
DTEND:20260201T010000Z
END:VEVENT
METHOD:PUBLISH
PRODID:-//Nyght//iCal API//EN
CALSCALE:GREGORIAN
END:VCALENDAR