BEGIN:VCALENDAR
VERSION:2.0
BEGIN:VEVENT
STATUS:CONFIRMED
DESCRIPTION:SILENCE, ÇA FÊTE !\n\nRetrouvez la célèbre Nuits des Musées d
 u Sud fribourgeois le samedi 8 novembre 2025.\n\nPlacée sous la thématiqu
 e commune « NATURE ! », cette soirée féérique enchantera petits et grands
  grâce à de nombreuses animations, découvertes inattendues et dégustation
 s d’ici et d’ailleurs. Un programme concocté par un étonnant réseau de mu
 sées qui vous fera passer une soirée inoubliable, que ce soit en Gruyère,
  en Glâne et au Pays-d’Enhaut. 💗🌙\n\n\nDès 22h, quand les musées particip
 ants fermeront leurs portes, celles d’Ebullition s’ouvriront, pour accuei
 llir gratuitement les noctambules porteurs d’un bracelet de la Nuit des M
 usées.\n\n\n🎟️  Infos Bracelet de la Nuit des Musées sur [www.musees-en-g
 ruyere.ch](https://www.musees-en-gruyere.ch)
CLASS:PUBLIC
UID:38225e4d-a6e7-4675-acbe-95cfb9087356
URL:https://nyght.ch/events/38225e4d-a6e7-4675-acbe-95cfb9087356
SUMMARY:Silent Party ! After de La Nuit des Musées
LAST-MODIFIED:20251009T193155Z
DTSTAMP:20260425T024457Z
DTSTART:20251108T210000Z
DTEND:20251109T020000Z
END:VEVENT
METHOD:PUBLISH
PRODID:-//Nyght//iCal API//EN
CALSCALE:GREGORIAN
END:VCALENDAR