BEGIN:VCALENDAR
VERSION:2.0
BEGIN:VEVENT
STATUS:CONFIRMED
DESCRIPTION:**The New Year’s Party like you’ve never seen before**\n\n\n*
 **Dress Code: Cabaret !***\n\n# ✨Le Bal Des Putes\n\nDans l’art, la figur
 e des travailleur·ses du sexe fascine et inspire, mais trop souvent à tra
 vers des clichés et un regard masculin.\nPour ce Nouvel An, Ebullition es
 t fière de lever le rideau sur un cabaret hors du commun : un spectacle p
 luridisciplinaire, érotique, queer et féministe, mêlant théâtre, danse, s
 trip-tease, comédie, pole dance, stand-up…\nLe Bal des Putes est une véri
 table lettre d’amour à la communauté des travailleur·ses du sexe, écrite 
 et portée par elle-même. 💖\nhttps://www.youtube.com/watch?v=Dfwtg0LsiVE&a
 b_channel=TRACKS-ARTE\n\n# ✨ Sarah Repond\nVous pensiez démarrer 2026 les
  pieds sur terre, eh bien Sarah en a décidé différemment. \nArtiste de ci
 rque gruérienne, aujourd'hui installée à Berlin, Sarah Repond pratique la
  suspension par la bouche et le trapèze de Washington, en redonnant un co
 up de frais et de créativité à ces disciplines traditionnelles. Vous en ê
 tes maintenant avisé.es, n'oubliez pas de faire vos résolutions tout en l
 evant vos yeux avant minuit !\nhttps://vimeo.com/1075599866?fl=pl&fe=sh\n
 \n# ✨ Camilla Sparksss\nNée à -27°C degrés à Kenora, en Ontario, où son e
 nfance a été marquée par des expériences uniques, notamment le fait d'avo
 ir un ours comme animal de compagnie, Barbara (aussi Peter Kernel) revien
 t en force cette année avec son nouvel album ICU Run.\nLes excellents pre
 miers extraits de ce dernier, promettent un réveillon éclaté à coups de D
 ark Wave et de Pop Experimental dansantes. ☄ \nhttps://www.youtube.com/wa
 tch?v=mrjhu1xF5XM&list=RDmrjhu1xF5XM&start_radio=1\n\n# ✨ Mortòri\nConçu 
 dans l’urgence d’explorer et d’exorciser les sentiments moins agréables l
 iés à l’amour, Aris (aussi Peter Kernel) a choisi de le faire dans sa lan
 gue maternelle, le dialecte tessinois.\nMusicalement varié et avant-gardi
 ste, Mortòri déploie une Pop déviante et désenchantée. ☠\nhttps://www.you
 tube.com/watch?v=JPKD5n_VjFc&list=RDJPKD5n_VjFc&start_radio=1\n\nPour en 
 ajouter une couche, nos DJs star-locales **Ghunsterstaxx & Davidoff**, **
 Les Petites Perles** et **Poivre & Sel** continueront la soirée dès 2h!\n
 \n\nEt pleins d'autres surprises. Vraiment, tu ne veux pas louper ce réve
 illon <3\n\n\n🥂 ❤️‍🔥 🥂 ❤️‍🔥\n\n### Horaires\n\n* Mortòri // 21h30\n* Le B
 al Des Putes // 22h30\n* Sarah Repond // 23h45\n* Camilla Sparksss // 01h
 00\n* After DJs // dès 02h00
CLASS:PUBLIC
UID:34d3c1d6-44e3-4ccb-86ef-2bba8fe691bb
URL:https://nyght.ch/events/34d3c1d6-44e3-4ccb-86ef-2bba8fe691bb
SUMMARY: The Good Year Party avec + Le Bal Des Pxtes (FR) + Sarah Repond 
 (CH) + Camilla Sparksss (CH) + Mortòri (CH)
LAST-MODIFIED:20251230T104250Z
DTSTAMP:20260423T150642Z
DTSTART:20251231T190000Z
DTEND:20260101T070000Z
END:VEVENT
METHOD:PUBLISH
PRODID:-//Nyght//iCal API//EN
CALSCALE:GREGORIAN
END:VCALENDAR