BEGIN:VCALENDAR
VERSION:2.0
BEGIN:VEVENT
STATUS:CONFIRMED
DESCRIPTION:**Jukebox Party**\n\nQuel plaisir de se refaire une fête en c
 ollaboration avec la Fondation Clos Fleuri ♬🌸✨\n\nViens dès 20h, choisis 
 tes morceaux préfs et fête la nouvelle année avec nous<3 !
CLASS:PUBLIC
UID:33e39624-4711-4ced-86f1-efbb76cbc511
URL:https://nyght.ch/events/33e39624-4711-4ced-86f1-efbb76cbc511
SUMMARY:Petit Nouvel An ♫Jukebox♬ avec la Fondation Clos Fleuri
LAST-MODIFIED:20251216T115742Z
DTSTAMP:20260423T130941Z
DTSTART:20260116T190000Z
DTEND:20260117T010000Z
END:VEVENT
METHOD:PUBLISH
PRODID:-//Nyght//iCal API//EN
CALSCALE:GREGORIAN
END:VCALENDAR