BEGIN:VCALENDAR
VERSION:2.0
BEGIN:VEVENT
STATUS:CONFIRMED
DESCRIPTION:**Conte musical pour adultes**\n\nIl était une fois, une expl
 osive rencontre entre trois petits chanteurs et une chant’heureuse transf
 ormiste aux multiples facettes. L’échange fut si troublant qu’ils recherc
 hèrent à nouveau la secousse de cette expérience sismique. Leur choix se 
 porta sur un détournement absurde et cathartique de l’univers des contes,
  particulièrement évocateur. En résumé: utiliser les contes pour régler d
 es comptes avec la sexualité, la norme et les injonctions sociales. On en
  frémit d’avance.\nAvec [Catherine d’Oex](http://www.catherinedoex.ch/?pa
 ge_id=4).\n\n
CLASS:PUBLIC
UID:316e75f7-a90d-460c-af35-1626ddbcf5e8
URL:https://nyght.ch/events/316e75f7-a90d-460c-af35-1626ddbcf5e8
SUMMARY:Les Petits Chanteurs à la Gueule de Bois présentent+"Ça glisse au
  pays des merveilles"
LAST-MODIFIED:20250610T100811Z
DTSTAMP:20260423T184054Z
DTSTART:20251220T190000Z
DTEND:20251220T225900Z
END:VEVENT
METHOD:PUBLISH
PRODID:-//Nyght//iCal API//EN
CALSCALE:GREGORIAN
END:VCALENDAR