BEGIN:VCALENDAR
VERSION:2.0
BEGIN:VEVENT
STATUS:CONFIRMED
DESCRIPTION:**Black, Doom, Satan**\n\nAu Pâques Sabbath d’Ebullition, mêm
 e Ozzy troquerait sa chauve-souris pour un lapin en chocolat.\nParce qu’i
 ci, on célèbre les riffs sacrés et la résurrection du heavy metal !\n\nCe
 tte soirée infusée au Doom Sludge et au Black metal, noiera vos oreilles 
 dans les décibels.\n\n𐕣 𓃵 𐕣 𓃵 𐕣 𓃵\n\n---\n\n# CULT OF OCCULT\nOriginaire 
 de Lyon et pilier d’un sludge-doom metal lourd et poisseux, Cult of Occul
 t déploie une musique qui évoque des cris venus des profondeurs. Leur son
  massif, oppressant et d’une intensité brutale avance comme une horde spe
 ctrale, écrasant tout sur son passage dans une lente et sombre procession
  sonore.\nhttps://www.youtube.com/watch?v=B5UKpNS5M-0\n\n# TZITZIMIME\nDu
  bruit, donc? Absolument. Le duo genevois composé d'Alessia (Exorbitant P
 rices Must Diminish, Murge) et d'Andrea (Purpura) propose une musique de 
 fin du monde, une masterclass de Noise et de Death enveloppée d'une avala
 nche de musique électronique à très haut niveau.\nhttps://www.youtube.com
 /watch?v=4VxjywDkRYE\n\n# TROGNE\nNé des vapeurs éthyliques, Trogne est u
 n sabbat frénétique autour de l'autel de l'ivresse, une dague plantée dan
 s les foi(e)s des sobres. Levez-vous, intoxiquez-vous et accueillez l'Eup
 horie. In Vino Veritas !\nhttps://www.youtube.com/watch?v=JSM1wCQXD7M&lis
 t=RDJSM1wCQXD7M&start_radio=1\n\n\n---\n\n❤️‍🔥 Entrée libre avec l’**AG c
 ulturel** et le **Pass Bienvenue Bulle**.\n\n*Plus d’infos sur la réserva
 tion avec l’AG Culturel [ici](https://www.ebull.ch/fr/abonnements).*\n\n❤
 ️‍🔥 Rabais de 50% sur l’entrée avec la **Carte Culture Caritas**.
CLASS:PUBLIC
UID:2b5441b7-95eb-4d1e-a2d0-2e2972b37766
URL:https://nyght.ch/events/2b5441b7-95eb-4d1e-a2d0-2e2972b37766
SUMMARY:PÂQUES SABBATH + Cult of Occult (FR) + Tzitzimime (CH) + Trogne (
 CH)
LAST-MODIFIED:20260225T112740Z
DTSTAMP:20260421T095251Z
DTSTART:20260405T170000Z
DTEND:20260405T230000Z
END:VEVENT
METHOD:PUBLISH
PRODID:-//Nyght//iCal API//EN
CALSCALE:GREGORIAN
END:VCALENDAR