BEGIN:VCALENDAR
VERSION:2.0
BEGIN:VEVENT
STATUS:CONFIRMED
DESCRIPTION:**Chanson & Humour**\n\nC’est l’histoire de Priscilla qui, de
 puis toute petite, ressent un besoin IMMENSE de reconnaissance. A l’adole
 scence c’est décidé : elle deviendra chanteuse! Ainsi, on la regardera, o
 n la considérera et on l’aimera. Ça, c’est pour la théorie. La réalité\ne
 st toute différente : conseils douteux de managers toxiques, les commenta
 ires d’un public souvent éméché et recommandations foireuses de sa prof d
 e chant, tout n’est pas aussi rose que prévu.\n\nFORMATS, c’est l’histoir
 e vraie de Priscilla, devenue FORMA, qui découvre le monde\nmagique (ou p
 as) de la musique. Une aventure drôle (toujours), dingue (souvent), atten
 drissante (parfois) et pas si éloignée que ça de notre vie à nous où on s
 e rend compte que se libérer du regard des autres et faire de son mieux p
 our être qui on est, c’est déjà pas si mal.\n\n\nSpectacle / 20h45\n\nenv
 . 1h15\n\nTexte et mise en scène : Priscilla Formaz, Sébastien Corthésy
CLASS:PUBLIC
UID:26faf0ae-b110-4e05-9a72-d6a0ef86e34a
URL:https://nyght.ch/events/26faf0ae-b110-4e05-9a72-d6a0ef86e34a
SUMMARY:FORMA présente "Formats"
LAST-MODIFIED:20251111T092254Z
DTSTAMP:20260424T212457Z
DTSTART:20251114T190000Z
DTEND:20251114T220000Z
END:VEVENT
METHOD:PUBLISH
PRODID:-//Nyght//iCal API//EN
CALSCALE:GREGORIAN
END:VCALENDAR