BEGIN:VCALENDAR
VERSION:2.0
BEGIN:VEVENT
STATUS:CONFIRMED
DESCRIPTION:**EBM / Cold Wave / Post Punk**\n\n# ULTRA SUNN\nL'histoire d
 'ULTRA SUNN est loin d'être terminée.\nEn 2024, le duo a reçu le prix du 
 groupe de l'année lors de la prestigieuse Octave de la musique en Belgiqu
 e. Avec un nouvel album prévu en octobre et leur base de fans toujours pl
 us grande, le duo continue de repousser les limites, en créant des chanso
 ns qui défient, inspirent et unissent.\nhttps://youtu.be/DZc08Nqi4qY?si=5
 17YMSWxMMTw7zh5\n\n\n# ALLANOIRCEUR\nALLANOIRCEUR est un chanteur musicie
 n queer suisse.\nCe qui le distingue en tant qu’artiste de scène c’est so
 n style de musique. Un style qui a tendance à harmoniser du métal avec de
  la dark-wave. Un résultat hors du commun. Sur scène, ALLANOIRCEUR prône 
 l’authenticité, le lien et l'interaction avec son public.\nhttps://www.yo
 utube.com/watch?v=UwSWc-ue9Fo\n\n🌊🌊🌊\n\n* ALLANOIRCEUR / 20h30\n* ULTRA S
 UNN / 22h00\n
CLASS:PUBLIC
UID:22b6d7f7-5c11-4ec5-8e6f-3dfa46f8525b
URL:https://nyght.ch/events/22b6d7f7-5c11-4ec5-8e6f-3dfa46f8525b
SUMMARY:ULTRA SUNN (BE) + ALLANOIRCEUR (CH)
LAST-MODIFIED:20251111T092136Z
DTSTAMP:20260424T233254Z
DTSTART:20251113T190000Z
DTEND:20251113T225900Z
END:VEVENT
METHOD:PUBLISH
PRODID:-//Nyght//iCal API//EN
CALSCALE:GREGORIAN
END:VCALENDAR