BEGIN:VCALENDAR
VERSION:2.0
BEGIN:VEVENT
STATUS:CONFIRMED
DESCRIPTION:Noise Metal Jazz\n\n# ZU\nFormation instrumentale originaire 
 de Rome, ZU revient en force avec un nouvel album "Ferrum Sidereum", sort
 ie prévue le 9 janvier 2026. Groupe à part, leur musique fusionne Jazz Ex
 perimental, Metal, Punk et Noise, ce qui leur a valu des collaborations a
 vec les Melvins ou Fugazi\nhttps://www.youtube.com/watch?v=dE-CH2hhUaA&li
 st=RDdE-CH2hhUaA&start_radio=1\n\n# Convulsif\nPremière partie en toute l
 ogique avec Convulsif, pionnier du jazz extrême et du metal avant-gardist
 e. Tension, atmosphère sombre, les romands sont connus pour des performan
 ces live immersives et puissantes.\nhttps://www.youtube.com/watch?v=gpFPy
 aa3czI&list=RDgpFPyaa3czI&start_radio=1
CLASS:PUBLIC
UID:1d323e8a-0024-44dd-907a-db4d158bb995
URL:https://nyght.ch/events/1d323e8a-0024-44dd-907a-db4d158bb995
SUMMARY:ZU (IT) + Convulsif (CH)
LAST-MODIFIED:20260120T130027Z
DTSTAMP:20260422T184942Z
DTSTART:20260213T190000Z
DTEND:20260214T010000Z
END:VEVENT
METHOD:PUBLISH
PRODID:-//Nyght//iCal API//EN
CALSCALE:GREGORIAN
END:VCALENDAR