BEGIN:VCALENDAR
VERSION:2.0
BEGIN:VEVENT
STATUS:CONFIRMED
DESCRIPTION:**Spectacle d'impro**\n\nLes ImprOvisibles fêtent leur 20 ans
  cette année!\nQu’adviendra-t-il de cette histoire en long format 20 ans 
 plus tard, 20 cm sous terre ou en 20 fois plus rapide?\n\n// Ouverture de
 s portes à 19h00, spectacle à 20h00
CLASS:PUBLIC
UID:1ce575d0-e4d5-4086-af8a-74d2fbe9fe7f
URL:https://nyght.ch/events/1ce575d0-e4d5-4086-af8a-74d2fbe9fe7f
SUMMARY:Les ImprOvisibles + "20x20"
LAST-MODIFIED:20260106T100925Z
DTSTAMP:20260423T114317Z
DTSTART:20260117T180000Z
DTEND:20260117T225900Z
END:VEVENT
METHOD:PUBLISH
PRODID:-//Nyght//iCal API//EN
CALSCALE:GREGORIAN
END:VCALENDAR