BEGIN:VCALENDAR
VERSION:2.0
BEGIN:VEVENT
STATUS:CONFIRMED
DESCRIPTION:**Pop Rap**\n\n# jean \njean semble paumé et un peu mal en po
 int. jean narre ses névroses en chanson. Addictions, amours sabotés, tend
 ance à l'autodestruction... il mêle des textes bien mélancoliques avec un
 e musique tour à tour pop, rap voire variété. Chouchou d'Odezenne, jean r
 emporte le tremplin organisé par ces derniers, le prix public inouïs et r
 evient en force avec son dernier album "C'est quand même bizarre".\nhttps
 ://www.youtube.com/watch?v=cl4seZyFi8A&ab_channel=jean\n\n# Salvia Rosa\n
 Pop expérimentale et multilingue, le projet rappelle Rosalia et PNL avec 
 des sonorités hyperpop et électro. Porteuse d'une ligne artistique et cré
 ative impeccable, l'artiste veveysanne incarne la ferveur d'une Gen Z for
 te et determinée. \nhttps://youtu.be/gllqEygqnTg?si=lTW-cp5S01DyD-Je\n\n#
  Mato\nZik de chambre qui peine à en sortir, Mato fait partie de ces géni
 es indépendants et autodidactes qui mettent au banc d'essai leur projet i
 ntrospectif. Tout droit venu de Fribourg, sa pop teintée de rap dépeint s
 a productivité et fait office de lettre d'amour à la musique alternative.
 \nhttps://youtu.be/7iRCAoh3DQ8?si=kQGbk_DwQssZY5yB\n
CLASS:PUBLIC
UID:1b024916-7e4e-4686-ab43-d76c0a7ea055
URL:https://nyght.ch/events/1b024916-7e4e-4686-ab43-d76c0a7ea055
SUMMARY:jean (FR) + Salvia Rosa (CH) + Mato (CH)
LAST-MODIFIED:20260106T113936Z
DTSTAMP:20260423T060328Z
DTSTART:20260123T190000Z
DTEND:20260124T010000Z
END:VEVENT
METHOD:PUBLISH
PRODID:-//Nyght//iCal API//EN
CALSCALE:GREGORIAN
END:VCALENDAR